BEGIN:VCALENDAR
VERSION:2.0
PRODID:icalendar-ruby
CALSCALE:GREGORIAN
METHOD:PUBLISH
BEGIN:VTIMEZONE
TZID:Australia/Perth
BEGIN:STANDARD
DTSTART:20090329T020000
TZOFFSETFROM:+0900
TZOFFSETTO:+0800
TZNAME:AWST
END:STANDARD
END:VTIMEZONE
BEGIN:VEVENT
DTSTAMP:20260422T100337Z
UID:inspection_3009610
DTSTART;TZID=Australia/Perth:20260426T120000
DTEND;TZID=Australia/Perth:20260426T123000
CLASS:PUBLIC
CREATED:20260422T130032
DESCRIPTION: 
LAST-MODIFIED:20260422T130032
LOCATION:32 Lancaster Loop\, PIARA WATERS WA 6112\, Australia
SUMMARY:32 Lancaster Loop\,  Inspection
URL;VALUE=URI:http://www.heritagerealty.com.au/
END:VEVENT
END:VCALENDAR
