BEGIN:VCALENDAR
VERSION:2.0
PRODID:icalendar-ruby
CALSCALE:GREGORIAN
METHOD:PUBLISH
BEGIN:VTIMEZONE
TZID:Australia/Perth
BEGIN:STANDARD
DTSTART:20090329T020000
TZOFFSETFROM:+0900
TZOFFSETTO:+0800
TZNAME:AWST
END:STANDARD
END:VTIMEZONE
BEGIN:VEVENT
DTSTAMP:20260422T182315Z
UID:inspection_3007095
DTSTART;TZID=Australia/Perth:20260426T153000
DTEND;TZID=Australia/Perth:20260426T160000
CLASS:PUBLIC
CREATED:20260421T100431
DESCRIPTION: 
LAST-MODIFIED:20260421T100431
LOCATION:26 Mader Road\, MUNDIJONG WA 6123\, Australia
SUMMARY:26 Mader Road\,  Inspection
URL;VALUE=URI:http://www.heritagerealty.com.au/
END:VEVENT
END:VCALENDAR
