BEGIN:VCALENDAR
VERSION:2.0
PRODID:icalendar-ruby
CALSCALE:GREGORIAN
METHOD:PUBLISH
BEGIN:VTIMEZONE
TZID:Australia/Perth
BEGIN:STANDARD
DTSTART:20090329T020000
TZOFFSETFROM:+0900
TZOFFSETTO:+0800
TZNAME:AWST
END:STANDARD
END:VTIMEZONE
BEGIN:VEVENT
DTSTAMP:20260422T182516Z
UID:inspection_3006185
DTSTART;TZID=Australia/Perth:20260426T120000
DTEND;TZID=Australia/Perth:20260426T123000
CLASS:PUBLIC
CREATED:20260420T175510
DESCRIPTION: 
LAST-MODIFIED:20260420T175510
LOCATION:4 / 3 Netley Place\, ARMADALE WA 6112\, Australia
SUMMARY:4 / 3 Netley Place\,  Inspection
URL;VALUE=URI:http://www.heritagerealty.com.au/
END:VEVENT
END:VCALENDAR
