BEGIN:VCALENDAR
VERSION:2.0
PRODID:icalendar-ruby
CALSCALE:GREGORIAN
METHOD:PUBLISH
BEGIN:VTIMEZONE
TZID:Australia/Perth
BEGIN:STANDARD
DTSTART:20090329T020000
TZOFFSETFROM:+0900
TZOFFSETTO:+0800
TZNAME:AWST
END:STANDARD
END:VTIMEZONE
BEGIN:VEVENT
DTSTAMP:20260420T083945Z
UID:inspection_3005470
DTSTART;TZID=Australia/Perth:20260426T100000
DTEND;TZID=Australia/Perth:20260426T103000
CLASS:PUBLIC
CREATED:20260420T133017
DESCRIPTION: 
LAST-MODIFIED:20260420T133017
LOCATION:15 Carroll Lane\, BYFORD WA 6122\, Australia
SUMMARY:15 Carroll Lane\,  Inspection
URL;VALUE=URI:http://www.heritagerealty.com.au/
END:VEVENT
END:VCALENDAR
