BEGIN:VCALENDAR
VERSION:2.0
PRODID:icalendar-ruby
CALSCALE:GREGORIAN
METHOD:PUBLISH
BEGIN:VTIMEZONE
TZID:Australia/Perth
BEGIN:STANDARD
DTSTART:20090329T020000
TZOFFSETFROM:+0900
TZOFFSETTO:+0800
TZNAME:AWST
END:STANDARD
END:VTIMEZONE
BEGIN:VEVENT
DTSTAMP:20260419T181146Z
UID:inspection_3003463
DTSTART;TZID=Australia/Perth:20260425T120000
DTEND;TZID=Australia/Perth:20260425T123000
CLASS:PUBLIC
CREATED:20260419T103736
DESCRIPTION: 
LAST-MODIFIED:20260419T103736
LOCATION:13 The Elbow\, SWAN VIEW WA 6056\, Australia
SUMMARY:13 The Elbow\,  Inspection
URL;VALUE=URI:http://www.heritagerealty.com.au/
END:VEVENT
END:VCALENDAR
