BEGIN:VCALENDAR
VERSION:2.0
PRODID:icalendar-ruby
CALSCALE:GREGORIAN
METHOD:PUBLISH
BEGIN:VTIMEZONE
TZID:Australia/Perth
BEGIN:STANDARD
DTSTART:20090329T020000
TZOFFSETFROM:+0900
TZOFFSETTO:+0800
TZNAME:AWST
END:STANDARD
END:VTIMEZONE
BEGIN:VEVENT
DTSTAMP:20260419T181019Z
UID:inspection_3000443
DTSTART;TZID=Australia/Perth:20260516T120000
DTEND;TZID=Australia/Perth:20260516T123000
CLASS:PUBLIC
CREATED:20260416T113132
DESCRIPTION: 
LAST-MODIFIED:20260416T113132
LOCATION:1 Vichy Close\, PIARA WATERS WA 6112\, Australia
SUMMARY:1 Vichy Close\,  Inspection
URL;VALUE=URI:http://www.heritagerealty.com.au/
END:VEVENT
END:VCALENDAR
